BEGIN:VCALENDAR
VERSION:2.0
PRODID:-//Helene-Lange-Schule - ECPv5.1.6//NONSGML v1.0//EN
CALSCALE:GREGORIAN
METHOD:PUBLISH
X-WR-CALNAME:Helene-Lange-Schule
X-ORIGINAL-URL:http://wordpress.hls-pinneberg.de/wordpress
X-WR-CALDESC:Veranstaltungen für Helene-Lange-Schule
BEGIN:VTIMEZONE
TZID:Europe/Helsinki
BEGIN:DAYLIGHT
TZOFFSETFROM:+0200
TZOFFSETTO:+0300
TZNAME:EEST
DTSTART:20220327T010000
END:DAYLIGHT
BEGIN:STANDARD
TZOFFSETFROM:+0300
TZOFFSETTO:+0200
TZNAME:EET
DTSTART:20221030T010000
END:STANDARD
END:VTIMEZONE
BEGIN:VEVENT
DTSTART;TZID=Europe/Helsinki:20220905T190000
DTEND;TZID=Europe/Helsinki:20220905T203000
DTSTAMP:20260422T140740
CREATED:20220805T182953Z
LAST-MODIFIED:20220805T182953Z
UID:3341-1662404400-1662409800@wordpress.hls-pinneberg.de
SUMMARY:Wahlelternabend 1. Klassen
DESCRIPTION:
URL:http://wordpress.hls-pinneberg.de/wordpress/?tribe_events=wahlelternabend-1-klassen
CATEGORIES:Elternabend
END:VEVENT
END:VCALENDAR