BEGIN:VCALENDAR
VERSION:2.0
PRODID:-//Helene-Lange-Schule - ECPv5.1.6//NONSGML v1.0//EN
CALSCALE:GREGORIAN
METHOD:PUBLISH
X-WR-CALNAME:Helene-Lange-Schule
X-ORIGINAL-URL:http://wordpress.hls-pinneberg.de/wordpress
X-WR-CALDESC:Veranstaltungen für Helene-Lange-Schule
BEGIN:VTIMEZONE
TZID:Europe/Helsinki
BEGIN:DAYLIGHT
TZOFFSETFROM:+0200
TZOFFSETTO:+0300
TZNAME:EEST
DTSTART:20220327T010000
END:DAYLIGHT
BEGIN:STANDARD
TZOFFSETFROM:+0300
TZOFFSETTO:+0200
TZNAME:EET
DTSTART:20221030T010000
END:STANDARD
END:VTIMEZONE
BEGIN:VEVENT
DTSTART;VALUE=DATE:20221008
DTEND;VALUE=DATE:20221023
DTSTAMP:20260421T223653
CREATED:20220805T190321Z
LAST-MODIFIED:20220805T190321Z
UID:3367-1665187200-1666483199@wordpress.hls-pinneberg.de
SUMMARY:Herbstferien
DESCRIPTION:
URL:http://wordpress.hls-pinneberg.de/wordpress/?tribe_events=herbstferien-8
CATEGORIES:Ferien
END:VEVENT
END:VCALENDAR