BEGIN:VCALENDAR
VERSION:2.0
PRODID:-//Helene-Lange-Schule - ECPv5.1.6//NONSGML v1.0//EN
CALSCALE:GREGORIAN
METHOD:PUBLISH
X-WR-CALNAME:Helene-Lange-Schule
X-ORIGINAL-URL:http://wordpress.hls-pinneberg.de/wordpress
X-WR-CALDESC:Veranstaltungen für Helene-Lange-Schule
BEGIN:VTIMEZONE
TZID:Europe/Helsinki
BEGIN:DAYLIGHT
TZOFFSETFROM:+0200
TZOFFSETTO:+0300
TZNAME:EEST
DTSTART:20220327T010000
END:DAYLIGHT
BEGIN:STANDARD
TZOFFSETFROM:+0300
TZOFFSETTO:+0200
TZNAME:EET
DTSTART:20221030T010000
END:STANDARD
END:VTIMEZONE
BEGIN:VEVENT
DTSTART;VALUE=DATE:20220822
DTEND;VALUE=DATE:20220823
DTSTAMP:20260422T171741
CREATED:20220805T182605Z
LAST-MODIFIED:20220805T182605Z
UID:3337-1661126400-1661212799@wordpress.hls-pinneberg.de
SUMMARY:Beginn der Förder- und Forderkurse
DESCRIPTION:Ab heute finden die Förder- und Forderkurse im Anschluss an den Unterricht statt. Informationen über die Teilnahme erhalten die Kinder von der Klassenleitung.
URL:http://wordpress.hls-pinneberg.de/wordpress/?tribe_events=beginn-der-foerder-und-forderkurse-4
END:VEVENT
END:VCALENDAR