BEGIN:VCALENDAR
VERSION:2.0
PRODID:-//Helene-Lange-Schule - ECPv5.1.6//NONSGML v1.0//EN
CALSCALE:GREGORIAN
METHOD:PUBLISH
X-WR-CALNAME:Helene-Lange-Schule
X-ORIGINAL-URL:http://wordpress.hls-pinneberg.de/wordpress
X-WR-CALDESC:Veranstaltungen für Helene-Lange-Schule
BEGIN:VTIMEZONE
TZID:Europe/Helsinki
BEGIN:DAYLIGHT
TZOFFSETFROM:+0200
TZOFFSETTO:+0300
TZNAME:EEST
DTSTART:20190331T010000
END:DAYLIGHT
BEGIN:STANDARD
TZOFFSETFROM:+0300
TZOFFSETTO:+0200
TZNAME:EET
DTSTART:20191027T010000
END:STANDARD
END:VTIMEZONE
BEGIN:VEVENT
DTSTART;TZID=Europe/Helsinki:20190524T080000
DTEND;TZID=Europe/Helsinki:20190524T130000
DTSTAMP:20260419T212903
CREATED:20180711T144750Z
LAST-MODIFIED:20180711T144750Z
UID:2156-1558684800-1558702800@wordpress.hls-pinneberg.de
SUMMARY:Ausweichtermin BJS
DESCRIPTION:Sollte es am 17.05. aus wettertechnischen Gründen nicht möglich sein\, unsere Bundesjugendspiele stattfinden zu lassen\, finden die Wettkämpfe heute statt. \nWenn die BJS heute stattfinden\, finden keine AGs statt. \nWenn die BJS am 17.05. stattgefunden haben\, finden heute AGs statt!
URL:http://wordpress.hls-pinneberg.de/wordpress/?tribe_events=ausweichtermin-bjs-5
END:VEVENT
END:VCALENDAR